BEGIN:VCALENDAR
VERSION:2.0
PRODID:-//Fingal Rovers SLSC - ECPv4.8.2//NONSGML v1.0//EN
CALSCALE:GREGORIAN
METHOD:PUBLISH
X-WR-CALNAME:Fingal Rovers SLSC
X-ORIGINAL-URL:http://fingalroversslsc.com.au
X-WR-CALDESC:Events for Fingal Rovers SLSC
BEGIN:VEVENT
DTSTART;TZID=UTC+0:20170909T173000
DTEND;TZID=UTC+0:20170909T233000
DTSTAMP:20200228T111617
CREATED:20170716T195331Z
LAST-MODIFIED:20170716T195457Z
UID:167-1504978200-1504999800@fingalroversslsc.com.au
SUMMARY:2016/17 Season Annual Awards Presentation Night
DESCRIPTION:The presentation night is open to everyone. So come along to show your appreciation for those who keep our club going and patrol the beaches. \n  \n
URL:http://fingalroversslsc.com.au/event/201617-season-annual-awards-presentation-night/
END:VEVENT
END:VCALENDAR