BEGIN:VCALENDAR
VERSION:2.0
PRODID:-//Fingal Rovers SLSC - ECPv4.8.2//NONSGML v1.0//EN
CALSCALE:GREGORIAN
METHOD:PUBLISH
X-WR-CALNAME:Fingal Rovers SLSC
X-ORIGINAL-URL:http://fingalroversslsc.com.au
X-WR-CALDESC:Events for Fingal Rovers SLSC
BEGIN:VEVENT
DTSTART;VALUE=DATE:20190119
DTEND;VALUE=DATE:20190120
DTSTAMP:20200228T111257
CREATED:20181224T020332Z
LAST-MODIFIED:20181224T020332Z
UID:237-1547856000-1547942399@fingalroversslsc.com.au
SUMMARY:Bronze Medallion Award Training
DESCRIPTION:Please set the date aside and we’ll post details here soon. \n
URL:http://fingalroversslsc.com.au/event/bronze-medallion-award-training/
LOCATION:Fingal Rovers SLSC\, 1 Marine Parade\, Fingal Head\, NSW\, 2487\, Australia
ORGANIZER;CN="Fingal%20Rovers%20SLSC":MAILTO:secretary@fingalroversslsc.com.au
END:VEVENT
END:VCALENDAR