BEGIN:VCALENDAR
VERSION:2.0
PRODID:-//Fingal Rovers SLSC - ECPv4.8.2//NONSGML v1.0//EN
CALSCALE:GREGORIAN
METHOD:PUBLISH
X-WR-CALNAME:Fingal Rovers SLSC
X-ORIGINAL-URL:http://fingalroversslsc.com.au
X-WR-CALDESC:Events for Fingal Rovers SLSC
BEGIN:VEVENT
DTSTART;TZID=UTC+11:20200125T170000
DTEND;TZID=UTC+11:20200125T210000
DTSTAMP:20200228T105603
CREATED:20200123T063556Z
LAST-MODIFIED:20200123T063556Z
UID:329-1579971600-1579986000@fingalroversslsc.com.au
SUMMARY:Fingal Mingle Curry Night
DESCRIPTION:Another famous curry night at Fingal Rovers clubhouse. As always\, new flavours\, vegetarian option and hot chilli on the side for capsacin aficionados. Choose your own flavour then stay chilled or heat it up to taste. \nCurry flavours of the month are: \n\nBeef Massaman\nButter Chicken\nLamb Saag\nChick pea and vegetables (vegetarian)\n\n 
URL:http://fingalroversslsc.com.au/event/fingal-mingle-curry-night-2/
LOCATION:Fingal Rovers SLSC\, 1 Marine Parade\, Fingal Head\, NSW\, 2487\, Australia
END:VEVENT
END:VCALENDAR