BEGIN:VCALENDAR
VERSION:2.0
PRODID:-//Fingal Rovers SLSC - ECPv4.8.2//NONSGML v1.0//EN
CALSCALE:GREGORIAN
METHOD:PUBLISH
X-WR-CALNAME:Fingal Rovers SLSC
X-ORIGINAL-URL:http://fingalroversslsc.com.au
X-WR-CALDESC:Events for Fingal Rovers SLSC
BEGIN:VEVENT
DTSTART;TZID=Australia/Sydney:20190420T170000
DTEND;TZID=Australia/Sydney:20190420T210000
DTSTAMP:20200228T111328
CREATED:20190402T055942Z
LAST-MODIFIED:20190417T063053Z
UID:257-1555779600-1555794000@fingalroversslsc.com.au
SUMMARY:Fingal Mingle Social Night
DESCRIPTION:Everyone’s welcome to another fun night for Fingal residents and visitors. \nGreat ocean views\, great company and great fun for the whole family. \nWatch our noticeboard for details. \n
URL:http://fingalroversslsc.com.au/event/fingal-mingle-curry-night/
LOCATION:Fingal Rovers SLSC\, 1 Marine Parade\, Fingal Head\, NSW\, 2487\, Australia
END:VEVENT
END:VCALENDAR