BEGIN:VCALENDAR
VERSION:2.0
PRODID:-//Fingal Rovers SLSC - ECPv4.8.2//NONSGML v1.0//EN
CALSCALE:GREGORIAN
METHOD:PUBLISH
X-WR-CALNAME:Fingal Rovers SLSC
X-ORIGINAL-URL:http://fingalroversslsc.com.au
X-WR-CALDESC:Events for Fingal Rovers SLSC
BEGIN:VEVENT
DTSTART;TZID=UTC+0:20170908T140000
DTEND;TZID=UTC+0:20170908T233000
DTSTAMP:20200228T111553
CREATED:20170716T195620Z
LAST-MODIFIED:20170716T195620Z
UID:170-1504879200-1504913400@fingalroversslsc.com.au
SUMMARY:Private Function
DESCRIPTION:Due to a private function the club is unavailable for hire \n
URL:http://fingalroversslsc.com.au/event/private-function/
END:VEVENT
END:VCALENDAR