BEGIN:VCALENDAR
VERSION:2.0
PRODID:-//Fingal Rovers SLSC - ECPv4.8.2//NONSGML v1.0//EN
CALSCALE:GREGORIAN
METHOD:PUBLISH
X-WR-CALNAME:Fingal Rovers SLSC
X-ORIGINAL-URL:http://fingalroversslsc.com.au
X-WR-CALDESC:Events for Fingal Rovers SLSC
BEGIN:VEVENT
DTSTART;TZID=UTC+0:20161016T100000
DTEND;TZID=UTC+0:20161016T140000
DTSTAMP:20200228T111538
CREATED:20160925T074252Z
LAST-MODIFIED:20160925T074252Z
UID:135-1476612000-1476626400@fingalroversslsc.com.au
SUMMARY:SLS and Clubhouse Open Day
DESCRIPTION:We are opening our doors so come and see the progress of our clubhouse works and learn more about what we do!\nFingal Rovers Surf Life Saving Club has been working hard to complete our clubhouse ready for the 2016/2017 season. \nWe would like to invite all our supporters and members of the community down to celebrate the progress of the works thus far and learn more about what Surf Life Saving is all about. \nCome along and enjoy…  \n\n10am – Beach games & kids activities.\n11am – Tour of the Clubhouse and Presentations.\nBBQ lunch and bar open for drinks\nDemonstrations and information\nLocal Area Information\nMeet our Committee and Volunteers\n\n  \n
URL:http://fingalroversslsc.com.au/event/sls-and-clubhouse-open-day/
LOCATION:Fingal Rovers SLSC\, 1 Marine Parade\, Fingal Head\, NSW\, 2487\, Australia
ATTACH;FMTTYPE=image/jpeg:http://fingalroversslsc.com.au/wp-content/uploads/2016/09/Open-Day-Flyer-2016-copy.jpg
ORGANIZER;CN="Fingal%20Rovers%20SLSC":MAILTO:secretary@fingalroversslsc.com.au
END:VEVENT
END:VCALENDAR