BEGIN:VCALENDAR
VERSION:2.0
PRODID:-//Fingal Rovers SLSC - ECPv4.8.2//NONSGML v1.0//EN
CALSCALE:GREGORIAN
METHOD:PUBLISH
X-WR-CALNAME:Fingal Rovers SLSC
X-ORIGINAL-URL:http://fingalroversslsc.com.au
X-WR-CALDESC:Events for Fingal Rovers SLSC
BEGIN:VEVENT
DTSTART;VALUE=DATE:20190601
DTEND;VALUE=DATE:20190603
DTSTAMP:20200228T112221
CREATED:20190402T061907Z
LAST-MODIFIED:20190402T062600Z
UID:268-1559347200-1559519999@fingalroversslsc.com.au
SUMMARY:SLS Training Officer Certificate Course
DESCRIPTION:Details TBA \n
URL:http://fingalroversslsc.com.au/event/sls-training-officer-certificate/
LOCATION:SLS Port Macquarie
END:VEVENT
END:VCALENDAR