BEGIN:VCALENDAR
VERSION:2.0
PRODID:-//Fingal Rovers SLSC - ECPv4.8.2//NONSGML v1.0//EN
CALSCALE:GREGORIAN
METHOD:PUBLISH
X-WR-CALNAME:Fingal Rovers SLSC
X-ORIGINAL-URL:http://fingalroversslsc.com.au
X-WR-CALDESC:Events for Fingal Rovers SLSC
BEGIN:VEVENT
DTSTART;VALUE=DATE:20190720
DTEND;VALUE=DATE:20190721
DTSTAMP:20200228T112032
CREATED:20190524T063916Z
LAST-MODIFIED:20190524T064649Z
UID:284-1563580800-1563667199@fingalroversslsc.com.au
SUMMARY:Advanced Resuscitation Techniques Course
DESCRIPTION:Contact Michael Kenny via secretary@fingalroversslsc.com.au \n
URL:http://fingalroversslsc.com.au/event/advanced-resuscitation-techniques-course/
LOCATION:Cudgen Creek Training Facility\, Ed Parker Rotary Park\, Sutherland Way\, Kingscliff\, NSW\, 2487\, Australia
END:VEVENT
END:VCALENDAR